BEGIN:VCALENDAR
VERSION:2.0
PRODID:-//https://www.kleinganzgross.de///NONSGML kigkonsult.se iCalcreator 2.10.15//
METHOD:PUBLISH
BEGIN:VEVENT
UID:20260419T160852CEST-7963UBpdAv@https://www.kleinganzgross.de/
DTSTAMP:20260419T140852Z
DESCRIPTION: https://www.kleinganzgross.de/aktuelles/schliesszeiten/event/1
 0-pfingstferien
DTSTART:20250616T050000Z
DTEND:20250620T210000Z
LOCATION:Kindergarten KleinGanzGroß St. Bruno (Steinbachtal 2\, 97082\, Wür
 zburg\, Bayern)
SUMMARY:Pfingstferien
URL:https://www.kleinganzgross.de/aktuelles/schliesszeiten/event/10-pfingst
 ferien
END:VEVENT
END:VCALENDAR
